{"text_format":"1","workbook":"xlsx","n_sheets":2,"sheets":["CGCH","REPORT"],"not_rendered":{"charts":0,"images":1,"macros":1,"external_links":0,"defined_names":4,"comments":0,"pivot_tables":0},"unopened":[],"bounds":{"document_bytes":16777216,"sheet_cells":100000,"rows_first":2000,"rows_last":500,"rows_between":2000,"halvings":0,"cell_chars":16384,"cell_head_chars":4096},"cells_cut":0,"cells_raw":0,"read":"whole","date_system":"1900"}

{"sheet":"CGCH","index":0,"n_rows":343,"n_cols":19,"rows_kept":343,"cut":false,"hidden":false,"merged":[[9,1,9,3],[9,4,9,5],[10,1,10,3],[10,4,10,5],[11,1,11,3],[11,4,11,5],[12,1,12,3],[12,4,12,5],[13,1,13,3],[13,4,13,5],[14,1,14,3],[14,4,14,5],[327,4,327,5],[327,1,327,3],[326,4,326,5],[326,1,326,3],[0,8,1,8],[2,0,2,1],[2,2,2,3],[2,4,2,5],[3,0,3,1],[3,3,3,4],[3,5,3,6],[3,8,3,9],[4,1,4,3],[4,4,4,5],[5,1,5,3],[5,4,5,5],[6,1,6,3],[6,4,6,5],[7,1,7,3],[7,4,7,5],[8,1,8,3],[8,4,8,5],[15,1,15,3],[15,4,15,5],[16,1,16,3],[16,4,16,5],[17,1,17,3],[17,4,17,5],[18,1,18,3],[18,4,18,5],[19,1,19,3],[19,4,19,5],[20,1,20,3],[20,4,20,5],[21,1,21,3],[21,4,21,5],[22,1,22,3],[22,4,22,5],[23,1,23,3],[23,4,23,5],[24,1,24,3],[24,4,24,5],[25,1,25,3],[25,4,25,5],[26,1,26,3],[26,4,26,5],[27,1,27,3],[27,4,27,5],[28,1,28,3],[28,4,28,5],[29,1,29,3],[29,4,29,5],[30,1,30,3],[30,4,30,5],[31,1,31,3],[31,4,31,5],[32,1,32,3],[32,4,32,5],[33,1,33,3],[33,4,33,5],[34,1,34,3],[34,4,34,5],[35,1,35,3],[35,4,35,5],[36,1,36,3],[36,4,36,5],[37,1,37,3],[37,4,37,5],[38,1,38,3],[38,4,38,5],[39,1,39,3],[39,4,39,5],[40,1,40,3],[40,4,40,5],[41,1,41,3],[41,4,41,5],[42,1,42,3],[42,4,42,5],[43,1,43,3],[43,4,43,5],[44,1,44,3],[44,4,44,5],[45,1,45,3],[45,4,45,5],[46,1,46,3],[46,4,46,5],[47,1,47,3],[47,4,47,5],[48,1,48,3],[48,4,48,5],[49,1,49,3],[49,4,49,5],[50,1,50,3],[50,4,50,5],[51,1,51,3],[51,4,51,5],[52,1,52,3],[52,4,52,5],[53,1,53,3],[53,4,53,5],[54,1,54,3],[54,4,54,5],[55,1,55,3],[55,4,55,5],[56,1,56,3],[56,4,56,5],[57,1,57,3],[57,4,57,5],[58,1,58,3],[58,4,58,5],[59,1,59,3],[59,4,59,5],[60,1,60,3],[60,4,60,5],[61,1,61,3],[61,4,61,5],[62,1,62,3],[62,4,62,5],[63,1,63,3],[63,4,63,5],[64,1,64,3],[64,4,64,5],[65,1,65,3],[65,4,65,5],[66,1,66,3],[66,4,66,5],[67,1,67,3],[67,4,67,5],[68,1,68,3],[68,4,68,5],[69,1,69,3],[69,4,69,5],[70,1,70,3],[70,4,70,5],[71,1,71,3],[71,4,71,5],[72,1,72,3],[72,4,72,5],[73,1,73,3],[73,4,73,5],[74,1,74,3],[74,4,74,5],[75,1,75,3],[75,4,75,5],[76,1,76,3],[76,4,76,5],[77,1,77,3],[77,4,77,5],[78,1,78,3],[78,4,78,5],[79,1,79,3],[79,4,79,5],[80,1,80,3],[80,4,80,5],[81,1,81,3],[81,4,81,5],[82,1,82,3],[82,4,82,5],[83,1,83,3],[83,4,83,5],[84,1,84,3],[84,4,84,5],[85,1,85,3],[85,4,85,5],[86,1,86,3],[86,4,86,5],[87,1,87,3],[87,4,87,5],[88,1,88,3],[88,4,88,5],[89,1,89,3],[89,4,89,5],[90,1,90,3],[90,4,90,5],[91,1,91,3],[91,4,91,5],[92,1,92,3],[92,4,92,5],[93,1,93,3],[93,4,93,5],[94,1,94,3],[94,4,94,5],[95,1,95,3],[95,4,95,5],[96,1,96,3],[96,4,96,5],[97,1,97,3],[97,4,97,5],[98,1,98,3],[98,4,98,5],[99,1,99,3],[99,4,99,5],[100,1,100,3],[100,4,100,5],[101,1,101,3],[101,4,101,5],[102,1,102,3],[102,4,102,5],[103,1,103,3],[103,4,103,5],[104,1,104,3],[104,4,104,5],[105,1,105,3],[105,4,105,5],[106,1,106,3],[106,4,106,5],[107,1,107,3],[107,4,107,5],[108,1,108,3],[108,4,108,5],[109,1,109,3],[109,4,109,5],[110,1,110,3],[110,4,110,5],[111,1,111,3],[111,4,111,5],[112,1,112,3],[112,4,112,5],[113,1,113,3],[113,4,113,5],[114,1,114,3],[114,4,114,5],[115,1,115,3],[115,4,115,5],[116,1,116,3],[116,4,116,5],[117,1,117,3],[117,4,117,5],[118,1,118,3],[118,4,118,5],[119,1,119,3],[119,4,119,5],[120,1,120,3],[120,4,120,5],[121,1,121,3],[121,4,121,5],[122,1,122,3],[122,4,122,5],[123,1,123,3],[123,4,123,5],[124,1,124,3],[124,4,124,5],[125,1,125,3],[125,4,125,5],[126,1,126,3],[126,4,126,5],[127,1,127,3],[127,4,127,5],[128,1,128,3],[128,4,128,5],[129,1,129,3],[129,4,129,5],[130,1,130,3],[130,4,130,5],[131,1,131,3],[131,4,131,5],[132,1,132,3],[132,4,132,5],[133,1,133,3],[133,4,133,5],[134,1,134,3],[134,4,134,5],[135,1,135,3],[135,4,135,5],[136,1,136,3],[136,4,136,5],[137,1,137,3],[137,4,137,5],[138,1,138,3],[138,4,138,5],[139,1,139,3],[139,4,139,5],[140,1,140,3],[140,4,140,5],[141,1,141,3],[141,4,141,5],[142,1,142,3],[142,4,142,5],[143,1,143,3],[143,4,143,5],[144,1,144,3],[144,4,144,5],[145,1,145,3],[145,4,145,5],[146,1,146,3],[146,4,146,5],[147,1,147,3],[147,4,147,5],[148,1,148,3],[148,4,148,5],[149,1,149,3],[149,4,149,5],[150,1,150,3],[150,4,150,5],[151,1,151,3],[151,4,151,5],[152,1,152,3],[152,4,152,5],[153,1,153,3],[153,4,153,5],[154,1,154,3],[154,4,154,5],[155,1,155,3],[155,4,155,5],[156,1,156,3],[156,4,156,5],[157,1,157,3],[157,4,157,5],[158,1,158,3],[158,4,158,5],[159,1,159,3],[159,4,159,5],[160,1,160,3],[160,4,160,5],[161,1,161,3],[161,4,161,5],[162,1,162,3],[162,4,162,5],[163,1,163,3],[163,4,163,5],[164,1,164,3],[164,4,164,5],[165,1,165,3],[165,4,165,5],[166,1,166,3],[166,4,166,5],[167,1,167,3],[167,4,167,5],[168,1,168,3],[168,4,168,5],[169,1,169,3],[169,4,169,5],[170,1,170,3],[170,4,170,5],[171,1,171,3],[171,4,171,5],[172,1,172,3],[172,4,172,5],[173,1,173,3],[173,4,173,5],[174,1,174,3],[174,4,174,5],[175,1,175,3],[175,4,175,5],[176,1,176,3],[176,4,176,5],[177,1,177,3],[177,4,177,5],[178,1,178,3],[178,4,178,5],[179,1,179,3],[179,4,179,5],[180,1,180,3],[180,4,180,5],[181,1,181,3],[181,4,181,5],[182,1,182,3],[182,4,182,5],[183,1,183,3],[183,4,183,5],[184,1,184,3],[184,4,184,5],[185,1,185,3],[185,4,185,5],[186,1,186,3],[186,4,186,5],[187,1,187,3],[187,4,187,5],[188,1,188,3],[188,4,188,5],[189,1,189,3],[189,4,189,5],[190,1,190,3],[190,4,190,5],[191,1,191,3],[191,4,191,5],[192,1,192,3],[192,4,192,5],[193,1,193,3],[193,4,193,5],[194,1,194,3],[194,4,194,5],[195,1,195,3],[195,4,195,5],[196,1,196,3],[196,4,196,5],[197,1,197,3],[197,4,197,5],[198,1,198,3],[198,4,198,5],[199,1,199,3],[199,4,199,5],[200,1,200,3],[200,4,200,5],[201,1,201,3],[201,4,201,5],[202,1,202,3],[202,4,202,5],[203,1,203,3],[203,4,203,5],[204,1,204,3],[204,4,204,5],[205,1,205,3],[205,4,205,5],[206,1,206,3],[206,4,206,5],[207,1,207,3],[207,4,207,5],[208,1,208,3],[208,4,208,5],[209,1,209,3],[209,4,209,5],[210,1,210,3],[210,4,210,5],[211,1,211,3],[211,4,211,5],[212,1,212,3],[212,4,212,5],[213,1,213,3],[213,4,213,5],[214,1,214,3],[214,4,214,5],[215,1,215,3],[215,4,215,5],[216,1,216,3],[216,4,216,5],[217,1,217,3],[217,4,217,5],[218,1,218,3],[218,4,218,5],[219,1,219,3],[219,4,219,5],[220,1,220,3],[220,4,220,5],[221,1,221,3],[221,4,221,5],[222,1,222,3],[222,4,222,5],[223,1,223,3],[223,4,223,5],[224,1,224,3],[224,4,224,5],[225,1,225,3],[225,4,225,5],[226,1,226,3],[226,4,226,5],[227,1,227,3],[227,4,227,5],[228,1,228,3],[228,4,228,5],[229,1,229,3],[229,4,229,5],[230,1,230,3],[230,4,230,5],[231,1,231,3],[231,4,231,5],[232,1,232,3],[232,4,232,5],[233,1,233,3],[233,4,233,5],[234,1,234,3],[234,4,234,5],[235,1,235,3],[235,4,235,5],[236,1,236,3],[236,4,236,5],[237,1,237,3],[237,4,237,5],[238,1,238,3],[238,4,238,5],[239,1,239,3],[239,4,239,5],[240,1,240,3],[240,4,240,5],[241,1,241,3],[241,4,241,5],[242,1,242,3],[242,4,242,5],[243,1,243,3],[243,4,243,5],[244,1,244,3],[244,4,244,5],[245,1,245,3],[245,4,245,5],[246,1,246,3],[246,4,246,5],[247,1,247,3],[247,4,247,5],[248,1,248,3],[248,4,248,5],[249,1,249,3],[249,4,249,5],[250,1,250,3],[250,4,250,5],[251,1,251,3],[251,4,251,5],[252,1,252,3],[252,4,252,5],[253,1,253,3],[253,4,253,5],[254,1,254,3],[254,4,254,5],[255,1,255,3],[255,4,255,5],[256,1,256,3],[256,4,256,5],[257,1,257,3],[257,4,257,5],[258,1,258,3],[258,4,258,5],[259,1,259,3],[259,4,259,5],[260,1,260,3],[260,4,260,5],[261,1,261,3],[261,4,261,5],[262,1,262,3],[262,4,262,5],[263,1,263,3],[263,4,263,5],[264,1,264,3],[264,4,264,5],[265,1,265,3],[265,4,265,5],[266,1,266,3],[266,4,266,5],[267,1,267,3],[267,4,267,5],[268,1,268,3],[268,4,268,5],[269,1,269,3],[269,4,269,5],[270,1,270,3],[270,4,270,5],[271,1,271,3],[271,4,271,5],[272,1,272,3],[272,4,272,5],[273,1,273,3],[273,4,273,5],[274,1,274,3],[274,4,274,5],[275,1,275,3],[275,4,275,5],[276,1,276,3],[276,4,276,5],[277,1,277,3],[277,4,277,5],[278,1,278,3],[278,4,278,5],[279,1,279,3],[279,4,279,5],[280,1,280,3],[280,4,280,5],[281,1,281,3],[281,4,281,5],[282,1,282,3],[282,4,282,5],[283,1,283,3],[283,4,283,5],[284,1,284,3],[284,4,284,5],[285,1,285,3],[285,4,285,5],[286,1,286,3],[286,4,286,5],[287,1,287,3],[287,4,287,5],[288,1,288,3],[288,4,288,5],[289,1,289,3],[289,4,289,5],[290,1,290,3],[290,4,290,5],[291,1,291,3],[291,4,291,5],[292,1,292,3],[292,4,292,5],[293,1,293,3],[293,4,293,5],[294,1,294,3],[294,4,294,5],[295,1,295,3],[295,4,295,5],[296,1,296,3],[296,4,296,5],[297,1,297,3],[297,4,297,5],[298,1,298,3],[298,4,298,5],[299,1,299,3],[299,4,299,5],[300,1,300,3],[300,4,300,5],[301,1,301,3],[301,4,301,5],[302,1,302,3],[302,4,302,5],[303,1,303,3],[303,4,303,5],[304,1,304,3],[304,4,304,5],[305,1,305,3],[305,4,305,5],[306,1,306,3],[306,4,306,5],[307,1,307,3],[307,4,307,5],[308,1,308,3],[308,4,308,5],[309,1,309,3],[309,4,309,5],[310,1,310,3],[310,4,310,5],[311,1,311,3],[311,4,311,5],[312,1,312,3],[312,4,312,5],[313,1,313,3],[313,4,313,5],[314,1,314,3],[314,4,314,5],[328,1,328,3],[328,4,328,5],[331,1,331,3],[331,4,331,5],[332,1,332,3],[332,4,332,5],[333,1,333,3],[333,4,333,5],[325,4,325,5],[325,1,325,3],[334,1,334,3],[334,4,334,5],[315,1,315,3],[315,4,315,5],[316,1,316,3],[316,4,316,5],[317,1,317,3],[317,4,317,5],[318,1,318,3],[318,4,318,5],[319,1,319,3],[319,4,319,5],[320,1,320,3],[320,4,320,5],[321,1,321,3],[321,4,321,5],[335,1,335,3],[335,4,335,5],[324,4,324,5],[324,1,324,3],[336,1,336,3],[336,4,336,5],[337,1,337,3],[337,4,337,5],[338,1,338,3],[338,4,338,5],[339,1,339,3],[339,4,339,5],[340,1,340,3],[340,4,340,5],[341,1,341,3],[341,4,341,5],[342,1,342,3],[342,4,342,5],[343,1,343,3],[343,4,343,5],[344,1,344,3],[344,4,344,5],[345,1,345,3],[345,4,345,5],[346,1,346,3],[346,4,346,5],[347,1,347,3],[347,4,347,5],[348,1,348,3],[348,4,348,5],[349,1,349,3],[349,4,349,5],[350,1,350,3],[350,4,350,5],[351,1,351,3],[351,4,351,5],[352,1,352,3],[352,4,352,5],[353,1,353,3],[353,4,353,5],[354,1,354,3],[354,4,354,5],[355,1,355,3],[355,4,355,5],[356,1,356,3],[356,4,356,5],[357,1,357,3],[357,4,357,5],[358,1,358,3],[358,4,358,5],[359,1,359,3],[359,4,359,5],[360,1,360,3],[360,4,360,5],[361,1,361,3],[361,4,361,5],[362,1,362,3],[362,4,362,5],[363,1,363,3],[363,4,363,5],[364,1,364,3],[364,4,364,5],[365,1,365,3],[365,4,365,5],[366,1,366,3],[366,4,366,5],[367,1,367,3],[367,4,367,5],[368,1,368,3],[368,4,368,5],[369,1,369,3],[369,4,369,5],[370,1,370,3],[370,4,370,5],[371,1,371,3],[371,4,371,5],[372,1,372,3],[372,4,372,5],[373,1,373,3],[373,4,373,5],[374,1,374,3],[374,4,374,5],[375,1,375,3],[375,4,375,5],[376,1,376,3],[376,4,376,5],[377,1,377,3],[377,4,377,5],[378,1,378,3],[378,4,378,5],[379,1,379,3],[379,4,379,5],[380,1,380,3],[380,4,380,5],[381,1,381,3],[381,4,381,5],[382,1,382,3],[382,4,382,5],[383,1,383,3],[383,4,383,5],[384,1,384,3],[384,4,384,5],[385,1,385,3],[385,4,385,5],[386,1,386,3],[386,4,386,5],[387,1,387,3],[387,4,387,5],[388,1,388,3],[388,4,388,5],[389,1,389,3],[389,4,389,5],[390,1,390,3],[390,4,390,5],[391,1,391,3],[391,4,391,5],[392,1,392,3],[392,4,392,5],[393,1,393,3],[393,4,393,5],[394,1,394,3],[394,4,394,5],[395,1,395,3],[395,4,395,5],[396,1,396,3],[396,4,396,5],[397,1,397,3],[397,4,397,5],[398,1,398,3],[398,4,398,5],[399,1,399,3],[399,4,399,5],[400,1,400,3],[400,4,400,5],[401,1,401,3],[401,4,401,5],[402,1,402,3],[402,4,402,5],[403,1,403,3],[403,4,403,5],[404,1,404,3],[404,4,404,5],[405,1,405,3],[405,4,405,5],[406,1,406,3],[406,4,406,5],[407,1,407,3],[407,4,407,5],[408,1,408,3],[408,4,408,5],[409,1,409,3],[409,4,409,5],[410,1,410,3],[410,4,410,5],[411,1,411,3],[411,4,411,5],[412,1,412,3],[412,4,412,5],[413,1,413,3],[413,4,413,5],[414,1,414,3],[414,4,414,5],[415,1,415,3],[415,4,415,5],[416,1,416,3],[416,4,416,5],[417,1,417,3],[417,4,417,5],[418,1,418,3],[418,4,418,5],[419,1,419,3],[419,4,419,5],[420,1,420,3],[420,4,420,5],[421,1,421,3],[421,4,421,5],[422,1,422,3],[422,4,422,5],[423,1,423,3],[423,4,423,5],[424,1,424,3],[424,4,424,5],[425,1,425,3],[425,4,425,5],[426,1,426,3],[426,4,426,5],[427,1,427,3],[427,4,427,5],[428,1,428,3],[428,4,428,5],[429,1,429,3],[429,4,429,5],[430,1,430,3],[430,4,430,5],[431,1,431,3],[431,4,431,5],[432,1,432,3],[432,4,432,5],[433,1,433,3],[433,4,433,5],[434,1,434,3],[434,4,434,5],[435,1,435,3],[435,4,435,5],[436,1,436,3],[436,4,436,5],[437,1,437,3],[437,4,437,5],[438,1,438,3],[438,4,438,5],[439,1,439,3],[439,4,439,5],[440,1,440,3],[440,4,440,5],[441,1,441,3],[441,4,441,5],[442,1,442,3],[442,4,442,5],[443,1,443,3],[443,4,443,5],[444,1,444,3],[444,4,444,5],[445,1,445,3],[445,4,445,5],[446,1,446,3],[446,4,446,5],[447,1,447,3],[447,4,447,5],[448,1,448,3],[448,4,448,5],[449,1,449,3],[449,4,449,5],[450,1,450,3],[450,4,450,5],[451,1,451,3],[451,4,451,5],[452,1,452,3],[452,4,452,5],[453,1,453,3],[453,4,453,5],[454,1,454,3],[454,4,454,5],[455,1,455,3],[455,4,455,5],[456,1,456,3],[456,4,456,5],[457,1,457,3],[457,4,457,5],[458,1,458,3],[458,4,458,5],[459,1,459,3],[459,4,459,5],[460,1,460,3],[460,4,460,5],[461,1,461,3],[461,4,461,5],[462,1,462,3],[462,4,462,5],[463,1,463,3],[463,4,463,5],[464,1,464,3],[464,4,464,5],[465,1,465,3],[465,4,465,5],[466,1,466,3],[466,4,466,5],[467,1,467,3],[467,4,467,5],[468,1,468,3],[468,4,468,5],[469,1,469,3],[469,4,469,5],[470,1,470,3],[470,4,470,5],[471,1,471,3],[471,4,471,5],[472,1,472,3],[472,4,472,5],[473,1,473,3],[473,4,473,5],[474,1,474,3],[474,4,474,5],[475,1,475,3],[475,4,475,5],[476,1,476,3],[476,4,476,5],[477,1,477,3],[477,4,477,5],[478,1,478,3],[478,4,478,5],[479,1,479,3],[479,4,479,5],[480,1,480,3],[480,4,480,5],[481,1,481,3],[481,4,481,5],[482,1,482,3],[482,4,482,5],[483,1,483,3],[483,4,483,5],[484,1,484,3],[484,4,484,5],[485,1,485,3],[485,4,485,5],[486,1,486,3],[486,4,486,5],[487,1,487,3],[487,4,487,5],[488,1,488,3],[488,4,488,5],[489,1,489,3],[489,4,489,5],[490,1,490,3],[490,4,490,5],[491,1,491,3],[491,4,491,5],[492,1,492,3],[492,4,492,5],[493,1,493,3],[493,4,493,5],[494,1,494,3],[494,4,494,5],[495,1,495,3],[495,4,495,5],[496,1,496,3],[496,4,496,5],[497,1,497,3],[497,4,497,5],[498,1,498,3],[498,4,498,5],[499,1,499,3],[499,4,499,5],[500,1,500,3],[500,4,500,5],[501,1,501,3],[501,4,501,5],[502,1,502,3],[502,4,502,5],[503,1,503,3],[503,4,503,5]],"merged_total":1212,"flags":["merged_cut"]}
[{"$f":"REPORT!B21","v":120},{"$f":"REPORT!B23&\" \"&REPORT!C23","v":"FAIR STABLE"},{"$f":"REPORT!B11","v":0},{"$f":"REPORT!AD56","v":294},"(2) Live Chk_In",{"$f":"COUNTIF($H$5:$H$602,\"2\")","v":0},"Total Chk In",{"$f":"SUM(F1:F2)+D2+L4","v":20},null,null,{"$f":"REPORT!F20","v":" "},{"$f":"IF(P2=\"DST\",NOW()+5/24,NOW()+6/24)","v":46227.640418287039},null,{"$f":"COUNTIFS(CGCH!$B$5:$B$602,\"**\",CGCH!$H$5:$H$602,\"<>3\",CGCH!$H$5:$H$602,\"<>4\")+5","v":332},"2020-07-23","Rev:","2020","Daily Sht"]
[{"$f":"REPORT!B25&\" \"&REPORT!B27","v":"DAVID KA5TON"},{"$f":"REPORT!D19","v":"KE5UU"},"(3) New",{"$f":"COUNTIF($H$5:$H$602,\"3\")","v":0},"(1) Early or Alibi",{"$f":"COUNTIF($H$5:$H$602,\"1\")","v":20},"(4),MSgs",{"$f":"COUNTIF($H$5:$H$602,\"4\")","v":0},null,null,{"$f":"REPORT!F21","v":"00:30:00"},"ZULU TIME    F9 TO UPDATE",null,null,{"$f":"A4","v":"2026-07-24"},{"$f":"REPORT!Q12","v":"DST"},"HURRICANE ROSTER.xlsm","Roster.file"]
[null,null,null,null,null,null,null,null,null,null,null,null,null,null,{"$f":"N1","v":332},null,"DAY CHECK-INS 2020","Month Sht"]
["2026-07-24",null,294,"398 NETS",null,null,null,null,null,null,null,{"$f":"COUNTIF($H$5:$H$602,\"5\")","v":0}]
[null,"ALABAMA",null,null,null,null,{"$f":"COUNTIFS(CGCH!$B$5:$B$501,\"*,AL\",CGCH!$H$5:$H$501,\">0\")","v":5}]
[0.96,"ADGER,AL",null,null,"KK4HND",null,"JEFFERY"]
[0.1,"ANNISTON,AL",null,null,"KQ4TYR",null,"DAVID"]
[0.71,"ASHLAND,AL",null,null,"KM4HEO",null,"ALBERT"]
[0.13,"ASHVILLE,AL",null,null,"W4OWE",null,"RODNEY",null,null,null,null,null,null,null,null,null,null,null,"R A D I O G R A M"]
[0.22,"BAY MINETTE,AL",null,null,"KW4HB",null,"MICHAEL",null,null,null,null,null,null,null,null,null," "]
[0.3,"BIRMINGHAM,AL",null,null,"KG4ILT",null,"TOM"]
[0.95,"BIRMINGHAM,AL",null,null,"KQ4TTY",null,"LEO"]
[0.11,"CARBON HILL,AL",null,null,"KO4NMX",null,"BILL",null,null,null,null,null,null,null,null,null,null,null,"NUMBER:"]
[0.21,"CLANTON,AL",null,null,"KK4IZ",null,"WARREN",null,null,null,null,null,null,null,null,null,null,null,"PRECEDENCE:"]
[0.09,"CODEN,AL",null,null,"KS4YV",null,"JEFF",null,null,null,null,null,null,null,null,null,null,null,"HX:"]
[0.24,"CULLMAN,AL",null,null,"KC4LOS",null,"JASON",null,null,null,null,null,null,null,null,null,null,null,"STATION OF ORIGIN:"]
[0.22,"CULLMAN,AL",null,null,"KO4WAU",null,"JONATHAN",null,null,null,null,null,null,null,null,null,null,null,"CHECK:"]
[0.17,"CULLMAN,AL",null,null,"KQ4QEC",null,"RYAN",null,null,null,null,null,null,null,null,null,null,null,"PLACE OF ORIGIN:"]
[0.54,"DEMOPOLIS,AL",null,null,"N4HYT",null,"DAN ",null,null,null,null,null,null,null,null,null,null,null,"TIME FILED:"]
[0.24,"EIGHT MILE,AL",null,null,"KI4OOL",null,"RONALD",null,null,null,null,null,null,null,null,null,null,null,"DATE REC'VD:"]
[0.09,"FLORALA,AL",null,null,"K4JGQ",null,"KERMIT"]
[0.12,"FLORENCE,AL",null,null,"WA4CLA",null,"STEVE",null,null,null,null,null,null,null,null,null,null,null,"TO:NAME"]
[0.18,"GARDENDALE,AL",null,null,"W4JTS",null,"JT",null,null,null,null,null,null,null,null,null,null,null,"ADDRESS 1"]
[0.17,"GRAYSVILLE,AL",null,null,"AC4TC",null,"DREW",null,null,null,null,null,null,null,null,null,null,null,"ADDRESS 2"]
[0.61,"GULF SHORES,AL",null,null,"WA4MZE",null,"VICTOR"]
[0.09,"HANCEVILLE,AL",null,null,"KQ4EFB",null,"MARK",null,null,null,null,null,null,null,null,null,null,null,"TELEPHONE #"]
[0.18,"HOOVER,AL",null,null,"KO4JYU",null,"LARRY"]
[0.08,"HOOVER,AL",null,null,"KQ4CST",null,"KEITH",null,null,null,null,null,null,null,null,null,null,null,"MESSAGE"]
[0.1,"HUNTSVILLE,AL",null,null,"KJ4OJG",null,"DAVID"]
[0.77,"JASPER,AL",null,null,"N4MGC",null,"MIKE"]
[0.69,"McINTOSH,AL",null,null,"KM4W",null,"JOHNNY"]
[0.13,"MOBILE,AL",null,null,"KA5NSH",null,"JAMES"]
[0.13,"MOBILE,AL",null,null,"KI4UUI",null,"GARY"]
[0.13,"MOBILE,AL",null,null,"KI5UXR",null,"MARK"]
[0.54,"MOBILE,AL",null,null,"W4WMM",null,"ALAN"]
[0.79,"MONTGOMERY,AL",null,null,"K4DJL",null,"EL",null,null,null,null,null,null,null,null,null,null,null,"REC'VD FROM"]
[0.6,"MOUNTAIN BRK,AL",null,null,"K4WJL",null,"BILL",null,null,null,null,null,null,null,null,null,null,null,"REC'VD DATE"]
[0.96,"MT VERNON,AL",null,null,"KX4US",null,"DAVE",null,null,null,null,null,null,null,null,null,null,null,"REC'VD TIME"]
[0.98,"MULGA,AL",null,null,"AK4LQ",null,"NANCY"]
[1,"MULGA,AL",null,null,"WD4IGK",null,"DERYL",1,"RELAY",null,null,null,null,null,null,null,null,null,"SENT TO"]
[0.19,"NORTHPORT,AL",null,null,"N4CAV",null,"BILLY",null,null,null,null,null,null,null,null,null,null,null,"SENT DATE"]
[0.94,"OPP,AL",null,null,"WB4AB",null,"WAYNE",null,null,null,null,null,null,null,null,null,null,null,"SENT TIME"]
[0.3,"OZARK,AL",null,null,"N4OZK",null,"MICHAEL"]
[0.44,"PELHAM,AL",null,null,"KO4PC",null,"DUDLEY"]
[0.19,"PELL CITY,AL",null,null,"KQ4ESQ",null,"JOHN",null,null,null,null,null,null,null,null,null,null,null,"REC'VD BY"]
[0.83,"PELL CITY,AL",null,null,"KE4BYG",null,"CAROLYN"]
[0.83,"PELL CITY,AL",null,null,"KS4ZV",null,"KEN"]
[0.13,"QUINTON,AL",null,null,"KR4FDY",null,"JERRY"]
[0.1,"ROBERTSDALE,AL",null,null,"KB4PQF",null,"ALVIN"]
[0.12,"SCOTTSBORO,AL",null,null,"K4QJL",null,"GARY"]
[0.95,"SYLACAUGA,AL",null,null,"K4JLO",null,"JEANNIE"]
[0.95,"SYLACAUGA,AL",null,null,"W4JGD",null,"GLENN"]
[1,"SYLACAUGA,AL",null,null,"WD4SS",null,"JON",1,"NCO-MONDAY"]
[1,"TRUSSVILLE,AL",null,null,"AG5AT",null,"AUGUST",1,"WEB MASTER"]
[1,"TRUSSVILLE,AL",null,null,"KN4ZFH",null,"TOM",1,"RELAY"]
[0.14000000000000001,"TUSCALOOSA,AL",null,null,"KQ4PYW",null,"NORMAN"]
[0.17,"VERNON,AL",null,null,"KO4VFK",null,"MARK"]
[0.13,"VERNON,AL",null,null,"W4GMI",null,"DAVID"]
[1,"WARRIOR,AL",null,null,"KD4CIF",null,"MIKE",1,"RELAY"]
[0.63,"WARRIOR,AL",null,null,"KD4ONB",null,"GODFREY"]
[0.73,"WARRIOR,AL",null,null,"N4UKE",null,"WILLIAM"]
[0.55000000000000004,"WARRIOR,AL",null,null,"W3NH",null,"OWEN"]
[null,"ARIZONA",null,null,null,null,{"$f":"COUNTIFS(CGCH!$B$5:$B$501,\"*,AZ\",CGCH!$H$5:$H$501,\">0\")","v":0}]
[0.09,"OVERGAARD,AZ",null,null,"W7QHZ",null,"MARTIN"]
[null,"ARKANSAS",null,null,null,null,{"$f":"COUNTIFS(CGCH!$B$5:$B$501,\"*,AR\",CGCH!$H$5:$H$501,\">0\")","v":6}]
[0.09,"ARKADELPHIA,AR",null,null,"KB5ILY",null,"TRAVIS"]
[0.69,"ARKADELPHIA,AR",null,null,"KC5GFL",null,"FRED"]
[1,"ARKADELPHIA,AR",null,null,"KE5VLX",null,"CHUCK",1,"NCO-WEDNESDAY"]
[0.9,"ARKADELPHIA,AR",null,null,"KJ5DIT",null,"MATTHEW"]
[0.11,"ARKADELPHIA,AR",null,null,"N5OEZ",null,"DAVID"]
[1,"BATESVILLE,AR",null,null,"KI5KVU",null,"RUSSELL",1,"RELAY"]
[0.18,"BEE BRANCH,AR",null,null,"KD5WDJ",null,"KEITH"]
[0.25,"BERRYVILLE,AR",null,null,"K5LLC",null,"LARRY"]
[0.56999999999999995,"BROOKLAND,AR",null,null,"KC5SM",null,"SUSIE"]
[0.56999999999999995,"BROOKLAND,AR",null,null,"WB5E",null,"JOE"]
[1,"COMPTON,AR",null,null,"WA5ARJ",null,"TERRY",1,"RELAY"]
[0.52,"CONWAY,AR",null,null,"AE5GH",null,"GERALD"]
[0.88,"DELIGHT,AR",null,null,"KJ5EZ",null,"WILLIAM"]
[0.26,"DEQUEEN,AR",null,null,"N2KQW",null,"BOBBY"]
[0.13,"EL DORADO,AR",null,null,"AF5WA",null,"JACK"]
[0.91,"FORT SMITH,AR",null,null,"N5EMS",null,"GARY"]
[0.4,"HARRISON,AR",null,null,"K5EDD",null,"ED"]
[0.08,"HARRISON,AR",null,null,"K5WHO",null,"STAN"]
[0.91,"HARRISON,AR",null,null,"KE5TKZ",null,"JACK"]
[0.67,"HOT SPRINGS VILLAGE,AR",null,null,"K0TXT",null,"JIM"]
[0.93,"HOT SPRINGS VILLAGE,AR",null,null,"KA5NWF",null,"GENE"]
[0.78,"HOT SPRINGS VILLAGE,AR",null,null,"KI5EDO",null,"EDDIE"]
[0.1,"JONESBORO,AR",null,null,"KC5GVC",null,"MIKE"]
[0.31,"LOCKESBURG,AR",null,null,"W5MDG",null,"MIKE"]
[0.51,"LONOKE,AR",null,null,"K5WC",null,"JOHN"]
[0.09,"MALVERN,AR",null,null,"KC5RCT",null,"RANDALL"]
[0.92,"MALVERN,AR",null,null,"W5TPK",null,"TYLER"]
[0.54,"MAYFLOWER,AR",null,null,"K5TLG",null,"TIMOTHY"]
[0.61,"MOUNTAIN VIEW,AR",null,null,"KF5JJ",null,"JOHN"]
[0.75,"PARAGOULD,AR",null,null,"W5MOE",null,"MOE",1,"OUT THRU 07/31"]
[0.55000000000000004,"POTTSVILLE,AR",null,null,"W5QC",null,"STEVE"]
[0.99,"RUSSELLVILLE,AR",null,null,"KE5UU",null,"KEN",1,"LIAISON"]
[0.16,"RUSSELLVILLE,AR",null,null,"N5XUZ",null,"RAY"]
[0.72,"RUSSELLVILLE,AR",null,null,"N8GKT",null,"JEFF"]
[0.11,"SCOTLAND,AR",null,null,"KC5EIK",null,"EDWARD"]
[1,"SHIRLEY,AR",null,null,"K5KER",null,"RANDY",1,"NCO-TUESDAY"]
[0.25,"WESLEY,AR",null,null,"W5XCR",null,"CHARLES"]
[0.72,"WESTERN GROVE,AR",null,null,"KJ5FGL",null,"JOHN"]
[null,"CALIFORNIA",null,null,null,null,{"$f":"COUNTIFS(CGCH!$B$5:$B$501,\"*,CA\",CGCH!$H$5:$H$501,\">0\")","v":0}]
[0.94,"SANTA BARBARA,CA",null,null,"KM6PRP",null,"HENRY"]
[null,"FLORIDA",null,null,null,null,{"$f":"COUNTIFS(CGCH!$B$5:$B$501,\"*,FL\",CGCH!$H$5:$H$501,\">0\")","v":0}]
[0.64,"FREEPORT,FL",null,null,"W9OFF",null,"RON"]
[0.09,"LECANTO,FL",null,null,"K4SOP",null,"WAYNE"]
[0.23,"MARY ESTHER,FL",null,null,"N4ICF",null,"STEVEN"]
[0.27,"MILTON,FL",null,null,"AB4FL",null,"BRADLEY"]
[0.76,"MILTON,FL",null,null,"WA5HC",null,"HAL"]
[0.93,"MONTICELLO,FL",null,null,"KM4TTS",null,"ANDY"]
[0.75,"PANAMA CITY,FL",null,null,"W4NNO",null,"MARTY"]
[0.55000000000000004,"PENSACOLA,FL",null,null,"AB4LO",null,"PAUL"]
[0.1,"PENSACOLA,FL",null,null,"K4RGC",null,"ROY"]
[0.13,"PENSACOLA,FL",null,null,"KC4LQB",null,"DAVID"]
[0.99,"PENSACOLA,FL",null,null,"KN4PCX",null,"BILL"]
[0.83,"PORT ST JOE,FL",null,null,"K4NEB",null,"NORM"]
[0.55000000000000004,"SANDERSON,FL",null,null,"KK4NCF",null,"TOM"]
[0.93,"TALLAHASSEE,FL",null,null,"K9FLA",null,"PHILIP"]
[0.1,"VALRICO,FL",null,null,"WN5RZT",null,"DAVID"]
[null,"GEORGIA",null,null,null,null,{"$f":"COUNTIFS(CGCH!$B$5:$B$501,\"*,GA\",CGCH!$H$5:$H$501,\">0\")","v":0}]
[0.09,"ATLANTA,GA",null,null,"KQ4NJS",null,"PAUL"]
[0.17,"BARNESVILLE,GA",null,null,"K4HUM",null,"LEONARD"]
[0.3,"BYRON,GA",null,null,"W4ZSZ",null,"FLOYD"]
[0.44,"ELLENWOOD,GA",null,null,"KN4MXZ",null,"WALTER"]
[0.1,"NEWBORN,GA",null,null,"W4NOC",null,"KEN"]
[0.13,"NEWNAN,GA",null,null,"KI4HHJ",null,"DAVID"]
[0.4,"NORCROSS,GA",null,null,"N8BCF",null,"BOB"]
[0.09,"PLAINVILLE,GA",null,null,"KQ4JPR",null,"MATT"]
[0.64,"THOMASTON,GA",null,null,"AJ5X",null,"BOB"]
[null,"ILLINOIS",null,null,null,null,{"$f":"COUNTIFS(CGCH!$B$5:$B$501,\"*,IL\",CGCH!$H$5:$H$501,\">0\")","v":0}]
[0.74,"CARTERVILLE,IL",null,null,"KD4LEO",null,"LEONARD"]
[0.28000000000000003,"FITHIAN,IL",null,null,"KA9EES",null,"ED"]
[0.82,"MASON CITY,IL",null,null,"K9ZQ",null,"MARK"]
[0.88,"PETERSBURG,IL",null,null,"KD4UTL",null,"BRIAN"]
[0.83,"ROCKFORD,IL",null,null,"KD9QDP",null,"RICK"]
[0.52,"SALEM,IL",null,null,"W5MM",null,"DAN"]
[null,"INDIANA",null,null,null,null,{"$f":"COUNTIFS(CGCH!$B$5:$B$501,\"*,IN\",CGCH!$H$5:$H$501,\">0\")","v":0}]
[0.11,"CHARLESTON,IN",null,null,"N9KRK",null,"MARK"]
[0.28000000000000003,"ELKHART,IN",null,null,"KC9YAV",null,"DAVID"]
[0.28000000000000003,"FT WAYNE,IN",null,null,"KD9HAV",null,"NORM"]
[null,"IOWA",null,null,null,null,{"$f":"COUNTIFS(CGCH!$B$5:$B$501,\"*,IA\",CGCH!$H$5:$H$501,\">0\")","v":0}]
[0.09,"MOUNT PLEASANT,IA",null,null,"KE0RSU",null,"ED"]
[null,"KANSAS",null,null,null,null,{"$f":"COUNTIFS(CGCH!$B$5:$B$501,\"*,KS\",CGCH!$H$5:$H$501,\">0\")","v":0}]
[0.1,"BALDWIN CITY,KS",null,null,"N6UOP",null,"JOHN"]
[0.12,"SPRING HILL,KS",null,null,"K0BHL",null,"BRENT"]
[null,"KENTUCKY",null,null,null,null,{"$f":"COUNTIFS(CGCH!$B$5:$B$501,\"*,KY\",CGCH!$H$5:$H$501,\">0\")","v":1}]
[0.18,"BARDSTOWN,KY",null,null,"AE4NU",null,"TOM"]
[0.12,"MAYFIELD,KY",null,null,"KD4OFM",null,"LLOYD"]
[0.63,"MORGANTOWN,KY",null,null,"KN4MAA",null,"RICHARD",1,"OUT THRU 07/31"]
[0.16,"OWENSBORO,KY",null,null,"AA4RL",null,"BOBBY"]
[null,"LOUISIANA",null,null,null,null,{"$f":"COUNTIFS(CGCH!$B$5:$B$501,\"*,LA\",CGCH!$H$5:$H$501,\">0\")","v":2}]
[0.95,"ABITA SPRINGS,LA",null,null,"K5HUM",null,"MIKE"]
[0.32,"BALL,LA",null,null,"KD5DFL",null,"SCOTT"]
[0.3,"BASTROP,LA",null,null,"AF5DW",null,"RAY"]
[0.12,"BATON ROUGE,LA",null,null,"KF5EK",null,"CHARLES"]
[0.15,"CHURCH POINT,LA",null,null,"KJ5CLE",null,"SHAWN"]
[0.13,"COLUMBIA,LA",null,null,"N5JSW",null,"JERRY"]
[0.47,"COTTAU HOMES,LA",null,null,"KB5TWL",null,"MITCH"]
[0.23,"CROWLEY,LA",null,null,"KF5AHM",null,"JAMES"]
[0.65,"CUT OFF,LA",null,null,"N5DPL",null,"NED"]
[0.18,"DENHAN SPRINGS,LA",null,null,"N5WWL",null,"JJ"]
[0.97,"DES ALEMANDS,LA",null,null,"KK4JLC",null,"TIM"]
[0.5,"DRY PRONG,LA",null,null,"N5GJQ",null,"MICHAEL"]
[1,"ELM GROVE,LA",null,null,"KG5YK",null,"ROBERT",1,"RELAY"]
[0.65,"FOLSOM,LA",null,null,"N5RYI",null,"WALTER"]
[0.55000000000000004,"GREENWELL SPRINGS,LA",null,null,"KG5WQI",null,"BUTCH"]
[0.75,"JENA,LA",null,null,"WA5KOS",null,"DON"]
[0.59,"JONESBORO,LA",null,null,"WB5NIN",null,"KIM"]
[0.23,"LAKE CHARLES,LA",null,null,"KG5SBA",null,"DAVID"]
[0.18,"LAKE CHARLES,LA",null,null,"KI5GZO",null,"RYAN"]
[0.88,"LECOMPTE,LA",null,null,"KA5TON",null,"DAVID",1,"NCO-FRIDAY"]
[0.3,"LEESVILLE,LA",null,null,"WB5LHD",null,"JERRY"]
[0.75,"LORANGER,LA",null,null,"N5WJA",null,"JIM"]
[0.76,"MAURICE,LA",null,null,"KJ5DZV",null,"DANNY"]
[0.13,"MONROE,LA",null,null,"AE5MR",null,"MICHAEL"]
[0.15,"MONROE,LA",null,null,"KR9C",null,"KENNY"]
[0.13,"MONTGOMERY,LA",null,null,"K5JEW",null,"ERIC"]
[0.82,"MORGAN CITY,LA",null,null,"AE5JU",null,"PAUL"]
[0.94,"PEARL RIVER,LA",null,null,"AA5UY",null,"JOHN"]
[0.94,"PEARL RIVER,LA",null,null,"AA5UZ",null,"JUDY"]
[0.13,"PONCHATOULA,LA",null,null,"KG5AAE",null,"DEAN"]
[0.93,"PONCHATOULA,LA",null,null,"N5JHF",null,"JOHN"]
[0.97,"RIVER RIDGE,LA",null,null,"WB5QDR",null,"RON"]
[0.14000000000000001,"RUSTON,LA",null,null,"KG5HOO",null,"DEAN"]
[0.26,"RUSTON,LA",null,null,"KG5KBO",null,"MIKE"]
[0.81,"RUSTON,LA",null,null,"WC5K",null,"CHARLES"]
[0.52,"SHREVEPORT,LA",null,null,"KE5DLM",null,"MICHAEL"]
[0.08,"SHREVEPORT,LA",null,null,"KJ5RPM",null,"RICHARDO"]
[0.17,"SIEPER,LA",null,null,"KJ5MFJ",null,"GLYN"]
[0.11,"SLIDELL,LA",null,null,"W5DGM",null,"DOMINC"]
[0.13,"SPEARSVILLE,LA",null,null,"K5WCB",null,"GREG"]
[0.13,"ST FRANCISVILLE,LA",null,null,"N5CI",null,"DOUGLAS"]
[0.13,"ST FRANCISVILLE,LA",null,null,"N5OIL",null,"STEVEN"]
[0.67,"THIBODAUX,LA",null,null,"WB4YTG",null,"ALLEN"]
[0.51,"WEST LAKE,LA",null,null,"N0MSW",null,"JIM"]
[0.14000000000000001,"WEST LAKE,LA",null,null,"W5ETL",null,"JACK"]
[0.12,"WEST MONROE,LA",null,null,"AD5XM",null,"WALLACE"]
[0.39,"WEYANOKE,LA",null,null,"KG5KGP",null,"RICK"]
[0.18,"ZACHARY,LA",null,null,"W5RAP",null,"BOB"]
[null,"MICHIGAN",null,null,null,null,{"$f":"COUNTIFS(CGCH!$B$5:$B$501,\"*,MI\",CGCH!$H$5:$H$501,\">0\")","v":2}]
[1,"CASEVILLE,MI",null,null,"N8KRQ",null,"BOB",1,"RELAY"]
[0.56000000000000005,"CLARKSTON,MI",null,null,"WD8INW",null,"GEORGE"]
[0.99,"EATON RAPIDS,MI",null,null,"KC8EHR",null,"CLINT",1,"RELAY"]
[0.28000000000000003,"FORT GRATIOT,MI",null,null,"N8SOB",null,"SHAUN"]
[0.24,"FREELAND,MI",null,null,"KB8MCI",null,"JODY"]
[0.1,"GRAND RAPIDS,MI",null,null,"N8DGD",null,"TOM"]
[0.35,"LAMBERTVILLE,MI",null,null,"WB8VOW",null,"RUSTY"]
[0.32,"MANCHESTER,MI",null,null,"N8XUY",null,"SAM"]
[0.32,"NEW BUFFALO,MI",null,null,"KA8UGB",null,"TONY"]
[0.26,"NEW BUFFALO,MI",null,null,"N8DAF",null,"DEB"]
[0.3,"ROMULUS,MI",null,null,"K8TAS",null,"TAS"]
[0.3,"ROMULUS,MI",null,null,"K8DXJ",null,"DORIS"]
[0.13,"WILLIS,MI",null,null,"AK8L",null,"BRUCE"]
[null,"MINNESOTA",null,null,null,null,{"$f":"COUNTIFS(CGCH!$B$5:$B$501,\"*,MN\",CGCH!$H$5:$H$501,\">0\")","v":0}]
[0.35,"ELROSA,MN",null,null,"KF0AUV",null,"JERRY"]
[0.34,"ELROSA,MN",null,null,"KF0AUW",null,"SHAWNNE"]
[null,"MISSISSIPPI",null,null,null,null,{"$f":"COUNTIFS(CGCH!$B$5:$B$501,\"*,MS\",CGCH!$H$5:$H$501,\">0\")","v":0}]
[0.97,"BEAUMONT,MS",null,null,"K5DJW",null,"DAVID"]
[0.09,"BYHALIA,MS",null,null,"W5LJD",null,"DENVER"]
[0.12,"CARRIERE,MS",null,null,"W5MJP",null,"MATT "]
[0.18,"COLUMBUS,MS",null,null,"W5HNZ",null,"JOEY"]
[0.17,"CRYSTALSPRINGS,MS",null,null,"AC5Y",null,"ALEX"]
[0.91,"DIAMONDHEAD,MS",null,null,"KA5EPR",null,"KAREN"]
[0.91,"DIAMONDHEAD,MS",null,null,"W5RWF",null,"BILL"]
[0.4,"FLOWOOD,MS",null,null,"K0UPW",null,"JIM"]
[0.16,"HERNANDO,MS",null,null,"N5PYQ",null,"TIM"]
[0.54,"LONG BEACH,MS",null,null,"KF5BA",null,"BOBBY"]
[0.37,"LONG BEACH,MS",null,null,"N5DS",null,"DANIEL"]
[0.66,"LUCEDALE,MS",null,null,"WA5MVG",null,"RICHARD"]
[0.74,"MAGEE,MS",null,null,"K5EJY",null,"LEE"]
[0.39,"MCCOMB,MS",null,null,"WD5HLE",null,"LARRY"]
[0.09,"VICKSBURG,MS",null,null,"W5PID",null,"JOSH"]
[null,"MISSOURI",null,null,null,null,{"$f":"COUNTIFS(CGCH!$B$5:$B$501,\"*,MO\",CGCH!$H$5:$H$501,\">0\")","v":0}]
[0.22,"BRANSON,MO",null,null,"AB0BH",null,"BILL"]
[0.8,"COLUMBIA,MO",null,null,"N8HSD",null,"HAL"]
[0.1,"EL DORADO SPRINGS,MO",null,null,"N0SAJ",null,"JEFF"]
[0.11,"EMINENCE,MO",null,null,"KD0FFL",null,"DIANE"]
[0.14000000000000001,"EMINENCE,MO",null,null,"W0WWR",null,"JEREMIAH"]
[0.9,"SAINT PETERS,MO",null,null,"N0HDM",null,"DAVID"]
[0.12,"SPRINGFIELD,MO",null,null,"W0TTP",null,"SCOTT"]
[null,"NEBRASKA",null,null,null,null,{"$f":"COUNTIFS(CGCH!$B$5:$B$501,\"*,NE\",CGCH!$H$5:$H$501,\">0\")","v":0}]
[0.82,"NEBRASKA CITY,NE",null,null,"K0GMS",null,"GARY"]
[null,"NEW MEXICO",null,null,null,null,{"$f":"COUNTIFS(CGCH!$B$5:$B$501,\"*,NM\",CGCH!$H$5:$H$501,\">0\")","v":2}]
[1,"FLOYD,NM",null,null,"AA5LT",null,"LYNDELL",1,"RELAY"]
[0.99,"LAS CRUCES,NM",null,null,"KM5ZE",null,"WARREN",1,"RELAY"]
[null,"N. CAROLINA",null,null,null,null,{"$f":"COUNTIFS(CGCH!$B$5:$B$501,\"*,NC\",CGCH!$H$5:$H$501,\">0\")","v":0}]
[0.95,"KANNAPOLIS,NC",null,null,"KA4ATT",null,"SAM"]
[0.93,"LAKE LURE,NC",null,null,"K4UVX",null,"DAVID"]
[0.95,"LANDIS,NC",null,null,"W1CFL",null,"JAMES"]
[0.2,"MILLERS CREEK,NC",null,null,"KE4DGP",null,"DWAYNE"]
[null,"OHIO",null,null,null,null,{"$f":"COUNTIFS(CGCH!$B$5:$B$501,\"*,OH\",CGCH!$H$5:$H$501,\">0\")","v":0}]
[0.16,"CHIPPEWA LAKE,OH",null,null,"K8ZAR",null,"KEN"]
[0.23,"NORWOOD,OH",null,null,"N8MRS",null,"MIKE"]
[0.44,"UNIONTOWN,OH",null,null,"KE8TQR",null,"KEITH"]
[null,"OKLAHOMA",null,null,null,null,{"$f":"COUNTIFS(CGCH!$B$5:$B$501,\"*,OK\",CGCH!$H$5:$H$501,\">0\")","v":0}]
[0.33,"BROKEN ARROW,OK",null,null,"W8AW",null,"DON"]
[0.68,"CHICKASHA,OK",null,null,"KG5EOG",null,"WAYNE"]
[0.26,"CLEVELAND,OK",null,null,"WB5OOB",null,"DENNIS"]
[0.93,"LAWTON,OK",null,null,"N5IZ",null,"RAY"]
[0.4,"VINITA,OK",null,null,"KB5TWP",null,"GARY"]
[null,"PENNSYLVANIA",null,null,null,null,{"$f":"COUNTIFS(CGCH!$B$5:$B$501,\"*,PA\",CGCH!$H$5:$H$501,\">0\")","v":0}]
[0.28999999999999998,"GRINDSTONE,PA",null,null,"K3EMF",null,"BOB"]
[null,"TENNESSEE",null,null,null,null,{"$f":"COUNTIFS(CGCH!$B$5:$B$501,\"*,TN\",CGCH!$H$5:$H$501,\">0\")","v":1}]
[0.23,"BIG SANDY,TN",null,null,"N4ZPD",null,"TOMMY"]
[0.12,"CLARKSVILLE,TN",null,null,"KK4EKK",null,"DONNIE"]
[1,"COLLIERVILLE,TN",null,null,"KJ4SBC",null,"RAY",1,"NET MANAGER"]
[0.95,"CROSSVILLE,TN",null,null,"W4WWV",null,"MARK"]
[0.11,"CUMBERLAND GAP,TN",null,null,"W4HKL",null,"STEVE"]
[0.1,"DIXON SPRINGS,TN",null,null,"KQ4HQZ",null,"ROGER"]
[0.13,"LIBERTY,TN",null,null,"KK4UHY",null,"CHRIS"]
[0.37,"SHELBYVILLE,TN",null,null,"KQ4QCC",null,"BO"]
[0.55000000000000004,"THOMPSONS STATION,TN",null,null,"AI5E",null,"GARY"]
[0.56000000000000005,"WARTBURG,TN",null,null,"K4OK",null,"DONALD"]
[null,"TEXAS",null,null,null,null,{"$f":"COUNTIFS(CGCH!$B$5:$B$602,\"*,TX\",CGCH!$H$5:$H$602,\">0\")","v":1}]
[0.24,"ALLEN,TX",null,null,"KJ5JYJ",null,"BRYAN"]
[0.12,"ARP,TX",null,null,"KX5O",null,"ROGER"]
[0.66,"BARKSDALE,TX",null,null,"KA5HWH",null,"BOB"]
[0.55000000000000004,"BOWIE,TX",null,null,"N5CRK",null,"CARL"]
[0.97,"BROOKELAND,TX",null,null,"KG5DLF",null,"MICHAEL"]
[0.08,"BUDA,TX",null,null,"N5WRW",null,"DWIGHT"]
[0.78,"BUFFALO,TX",null,null,"KC5IMW",null,"NICK"]
[0.15,"BUNA,TX",null,null,"W5TGK",null,"ROBERT"]
[0.52,"BURNET,TX",null,null,"W5HOC",null,"DON"]
[0.89,"CALL,TX",null,null,"K5DDM",null,"DAVE"]
[0.77,"CAMERON,TX",null,null,"KJ5CEU",null,"MARK"]
[0.86,"CANYON LAKE,TX",null,null,"K5YPY",null,"BRIAN"]
[0.85,"CASTROVILLE,TX",null,null,"K5YDE",null,"BILL"]
[0.09,"CEDAR PARK,TX",null,null,"KC5DJT",null,"ANDY"]
[0.1,"CEDAR PARK,TX",null,null,"N5VLF",null,"DAN"]
[0.6,"FLINT,TX",null,null,"KG5SRD",null,"ARCHIE"]
[0.41,"FLINT,TX",null,null,"W5BZW",null,"MICHAEL"]
[0.41,"GLEN ROSE,TX",null,null,"W5MLD",null,"MICHAEL"]
[0.69,"HENRIETTA,TX",null,null,"KA5WLR",null,"LARRY"]
[0.12,"HUNTINGTON,TX",null,null,"KD5HLB",null,"LAMAR"]
[0.66,"JACKSONVILLE,TX",null,null,"AG5LC",null,"GREG"]
[0.33,"JACKSONVILLE,TX",null,null,"KF5DC",null,"DON"]
[0.12,"JACKSONVILLE,TX",null,null,"N5NVC",null,"MIKE"]
[0.13,"KATY,TX",null,null,"KI5HEV",null,"DAVID"]
[0.56999999999999995,"KILGORE,TX",null,null,"N5ECP",null,"JEFF"]
[0.43,"KOUNTZE,TX",null,null,"N5LAV",null,"TERRY"]
[0.13,"LA GRANGE,TX",null,null,"KD5PUR",null,"ANDY"]
[0.2,"LEAGUE CITY,TX",null,null,"AJ5TT",null,"JOHN"]
[0.08,"LUBBOCK,TX",null,null,"KG5ZYP",null,"PAT"]
[1,"LUFKIN,TX",null,null,"KC5EGZ",null,"JIMMY",1,"RELAY"]
[0.88,"MCLEOD,TX",null,null,"KI5JTA",null,"DARRELL"]
[0.28000000000000003,"MIDLAND,TX",null,null,"N5LMB",null,"LES"]
[0.12,"NEW CANEY,TX",null,null,"WB5OZZ",null,"DON"]
[0.48,"PORT ARTHUR,TX",null,null,"KA5GTC",null,"GLEN"]
[0.48,"PORT ARTHUR,TX",null,null,"KD5LLC",null,"CANDACE"]
[0.12,"SAN ANGELO,TX",null,null,"K4OTM",null,"TOM"]
[0.74,"SAN ANGELO,TX",null,null,"K5FDC",null,"MAXINE"]
[0.74,"SAN ANGELO,TX",null,null,"K5QZQ",null,"CHUCK"]
[0.78,"SAN ANGELO,TX",null,null,"KC5NPC",null,"HUBERT"]
[0.73,"SAN ANGELO,TX",null,null,"W5ETJ",null,"GARY"]
[0.41,"SCURRY,TX",null,null,"K5KDM",null,"DOUG"]
[0.15,"SILSBEE,TX",null,null,"KX5C",null,"RON"]
[0.15,"SILSBEE,TX",null,null,"N5EKG",null,"BRENDA"]
[0.12,"SPRING,TX",null,null,"N2OLA",null,"JOHN"]
[0.5,"TEXAS CITY,TX",null,null,"W5ABZ",null,"PAUL"]
[0.86,"WEATHERFORD,TX",null,null,"W5BNX",null,"JOHN"]
[0.52,"WILLIS,TX",null,null,"K2WJ",null,"JOHN"]
[0.09,"YORKTOWN,TX",null,null,"WB5MEX",null,"HURSHEL"]
[null,"WISCONSIN",null,null,null,null,{"$f":"COUNTIFS(CGCH!$B$5:$B$602,\"*,WI\",CGCH!$H$5:$H$602,\">0\")","v":0}]
[0.32,"ALMOND,WI",null,null,"W9VOF",null,"DAVID"]
[0.27,"BLANCHARDVILLE,WI",null,null,"KD9RNA",null,"ERIC"]
[null,"COUNTRY'S"]
[0.28000000000000003,"WINDSOR, ONTARIO",null,null,"VE3KUZ",null,"BOB"]
[]
[]
[null,"CITY,STATE:",null,null,"CALL SIGN:",null,"NAME:"]
[]
[]
[]
[]
[]
[]
[]
[]
[]
[]
[null,"MESSAGES:"]

{"sheet":"REPORT","index":1,"n_rows":56,"n_cols":37,"rows_kept":56,"cut":false,"hidden":false,"merged":[[29,1,29,11],[31,0,31,11],[54,28,54,30],[1,26,1,31],[14,2,14,11],[15,2,15,11],[16,2,16,11],[28,1,28,11]]}
[null,null,null,null,null,null,null,null,null,null,null,null,null,null,null,"DO NOT MOVE OR CHANGE ANYTHING INSIDE THIS RED BOX EXCEPT FOR YELLOW CELLS."]
[null,"CENTRAL GULF COAST HURRICANE NET REPORT",null,null,null,null,null,null,null,null,null,null,null,null,null,null,null,null,null,null,null,"Ham Call","Alibi",null,null,null,"LEAVE NO BLANK SPACES BETWEEN  ENTRIES.",null,null,null,null,null,null,"Ham Call","WxSta",null,"W = Weather Station "]
[null,null,null,null,null,null,null,null,null,null,null,null,null,null,null,null,null,null,null,null,null,"AA5LT","RELAY",null,null,null,null,"Count By State","State","Nunb In State","Abbrev.","V V",null,null,null,null,"x = Height obove ground."]
["DAILY NET REPORT",null,null,null,null,null,null,null,null,null,null,null,null,null,null,null,null,null,null,null,null,"AG5AT","WEB MASTER",null,null,null,1,{"$f":"COUNTIFS(CGCH!$B$5:$B$501,\"*,AL\",CGCH!$H$5:$H$501,\">0\")","v":5},"ALABAMA",{"$f":"COUNTIFS(CGCH!$B$5:$B$501,\"*,AL\")","v":57},"AL",{"$f":"COUNTIFS(CGCH!$B$5:$B$602,AC4)","v":1}]
[null,null,null,null,null,null,null,null,null,null,null,null,null,null,null,null,null,null,null,null,null,"K5KER","NCO-TUESDAY",null,null,null,{"$f":"AA4+1","v":2},{"$f":"COUNTIFS(CGCH!$B$5:$B$501,\"*,AK\",CGCH!$H$5:$H$501,\">0\")","v":0},"ALASKA",{"$f":"COUNTIFS(CGCH!$B$5:$B$501,\"*,AK\")","v":0},"AK",{"$f":"COUNTIFS(CGCH!$B$5:$B$602,AC5)","v":0}]
["SEND TO: KJ4SBC at retarmy34cav@bellsouth.net   and   KE5VLX at ckatk120@gmail.com",null,null,null,null,null,null,null,null,null,null,null,null,null,null,null,null,null,null,null,null,"KC5EGZ","RELAY",null,null,null,3,{"$f":"COUNTIFS(CGCH!$B$5:$B$501,\"*,AZ\",CGCH!$H$5:$H$501,\">0\")","v":0},"ARIZONA",{"$f":"COUNTIFS(CGCH!$B$5:$B$501,\"*,AZ\")","v":1},"AZ",{"$f":"COUNTIFS(CGCH!$B$5:$B$602,AC6)","v":1}]
[null,null,null,null,null,null,null,null,null,null,null,null,null,null,null,null,null,null,null,null,null,"KC8EHR","RELAY",null,null,null,4,{"$f":"COUNTIFS(CGCH!$B$5:$B$501,\"*,AR\",CGCH!$H$5:$H$501,\">0\")","v":6},"ARKANSAS",{"$f":"COUNTIFS(CGCH!$B$5:$B$501,\"*,AR\")","v":38},"AR",{"$f":"COUNTIFS(CGCH!$B$5:$B$602,AC7)","v":1}]
[null,null,null,null,null,null,null,null,null,null,null,null,null,null,null,null,null,null,null,null,null,"KD4CIF","RELAY",null,null,null,5,{"$f":"COUNTIFS(CGCH!$B$5:$B$501,\"*,CA\",CGCH!$H$5:$H$501,\">0\")","v":0},"CALIFORNIA",{"$f":"COUNTIFS(CGCH!$B$5:$B$501,\"*,CA\")","v":1},"CA",{"$f":"COUNTIFS(CGCH!$B$5:$B$602,AC8)","v":1}]
["DATE:",{"$f":"CGCH!O2","v":"2026-07-24"},null,null,null,null,null,null,null,null,null,null,null,null,null,null,null,null,null,null,null,"KE5UU","LIAISON",null,null,null,6,{"$f":"COUNTIFS(CGCH!$B$5:$B$501,\"*,CO\",CGCH!$H$5:$H$501,\">0\")","v":0},"COLORADO",{"$f":"COUNTIFS(CGCH!$B$5:$B$501,\"*,CO\")","v":0},"CO",{"$f":"COUNTIFS(CGCH!$B$5:$B$602,AC9)","v":0}]
[null," ",null,null,null,null,null,null,null,null,null,null,null,null,null,null,null,null,null,null,null,"KE5VLX","NCO-WEDNESDAY",null,null,null,7,{"$f":"COUNTIFS(CGCH!$B$5:$B$501,\"*,CN\",CGCH!$H$5:$H$501,\">0\")","v":0},"CONNECTICUT",{"$f":"COUNTIFS(CGCH!$B$5:$B$501,\"*,CN\")","v":0},"CN",{"$f":"COUNTIFS(CGCH!$B$5:$B$602,AC10)","v":0}]
["YOUR LOCAL RPT #: ",null,null,null,null,null,null,null,null,null,null,null,null,null,null,null,null,null,null,null,null,"KG5YK","RELAY",null,null,null,8,{"$f":"COUNTIFS(CGCH!$B$5:$B$501,\"*,DE\",CGCH!$H$5:$H$501,\">0\")","v":0},"DELAWARE",{"$f":"COUNTIFS(CGCH!$B$5:$B$501,\"*,DE\")","v":0},"DE",{"$f":"COUNTIFS(CGCH!$B$5:$B$602,AC11)","v":0}]
[null,null,null,null,null,null,null,null,null,null,null,null,null,null,null,null,"DST",null,null,null,null,"KJ4SBC","NET MANAGER",null,null,null,9,{"$f":"COUNTIFS(CGCH!$B$5:$B$501,\"*,FL\",CGCH!$H$5:$H$501,\">0\")","v":0},"FLORIDA",{"$f":"COUNTIFS(CGCH!$B$5:$B$501,\"*,FL\")","v":15},"FL",{"$f":"COUNTIFS(CGCH!$B$5:$B$602,AC12)","v":1}]
["# CHECK INS: ",{"$f":"CGCH!H1","v":20},"INCLUDES",{"$f":"CGCH!D2","v":0},"NEW CHECKINS:",null,null,null,null,null,null,null,null,null,null,null,"Duration  calc.",null,null,null,null,"KM5ZE","RELAY",null,null,null,10,{"$f":"COUNTIFS(CGCH!$B$5:$B$501,\"*,GA\",CGCH!$H$5:$H$501,\">0\")","v":0},"GEORGIA",{"$f":"COUNTIFS(CGCH!$B$5:$B$501,\"*,GA\")","v":9},"GA",{"$f":"COUNTIFS(CGCH!$B$5:$B$602,AC13)","v":1}]
[null,null,null,null,null,null,null,null,null,null,null,null,null,null,null,null,46081.038437499999,null,null,null,null,"KN4ZFH","RELAY",null,null,null,11,{"$f":"COUNTIFS(CGCH!$B$5:$B$501,\"*,HI\",CGCH!$H$5:$H$501,\">0\")","v":0},"HAWAII",{"$f":"COUNTIFS(CGCH!$B$5:$B$501,\"*,HI\")","v":0},"HI",{"$f":"COUNTIFS(CGCH!$B$5:$B$602,AC14)","v":0}]
["# MESSAGES:",{"$f":"CGCH!H2","v":0},null,null,null,null,null,null,null,null,null,null,null,null,null,null,46034.969386574077,null,null,null,null,"N8KRQ","RELAY",null,null,null,12,{"$f":"COUNTIFS(CGCH!$B$5:$B$501,\"*,ID\",CGCH!$H$5:$H$501,\">0\")","v":0},"IDAHO",{"$f":"COUNTIFS(CGCH!$B$5:$B$501,\"*,HI\")","v":0},"ID",{"$f":"COUNTIFS(CGCH!$B$5:$B$602,AC15)","v":0}]
[null,null,null,null,null,null,null,null,null,null,null,null,null,null,null,null,{"$f":"(Q14-Q15)*1440","v":66339.433333327761},null,null,null,null,"WA5ARJ","RELAY",null,null,null,13,{"$f":"COUNTIFS(CGCH!$B$5:$B$501,\"*,IL\",CGCH!$H$5:$H$501,\">0\")","v":0},"ILLINOIS",{"$f":"COUNTIFS(CGCH!$B$5:$B$501,\"*,IL\")","v":6},"IL",{"$f":"COUNTIFS(CGCH!$B$5:$B$602,AC16)","v":1}]
[null,null,null,null,null,null,null,null,null,null,null,null,null,null,null,null,null,null,null,null,null,"WD4IGK","RELAY",null,null,null,14,{"$f":"COUNTIFS(CGCH!$B$5:$B$501,\"*,IN\",CGCH!$H$5:$H$501,\">0\")","v":0},"INDIANA",{"$f":"COUNTIFS(CGCH!$B$5:$B$501,\"*,IN\")","v":3},"IN",{"$f":"COUNTIFS(CGCH!$B$5:$B$602,AC17)","v":1}]
[null,null,null,null,null,null,null,null,null,null,null,null,null,null,null,null,null,null,null,null,null,"WD4SS","NCO-MONDAY",null,null,null,15,{"$f":"COUNTIFS(CGCH!$B$5:$B$501,\"*,IA\",CGCH!$H$5:$H$501,\">0\")","v":0},"IOWA",{"$f":"COUNTIFS(CGCH!$B$5:$B$501,\"*,IA\")","v":1},"IA",{"$f":"COUNTIFS(CGCH!$B$5:$B$602,AC18)","v":1}]
["LIASON: ","KEN","Call:","KE5UU",null,null,null,null,null,null,null,null,null,null,null,null,null,null,null,null,null,"KA5TON","NCO-FRIDAY",null,null,null,16,{"$f":"COUNTIFS(CGCH!$B$5:$B$501,\"*,KS\",CGCH!$H$5:$H$501,\">0\")","v":0},"KANSAS",{"$f":"COUNTIFS(CGCH!$B$5:$B$501,\"*,KS\")","v":2},"KS",{"$f":"COUNTIFS(CGCH!$B$5:$B$602,AC19)","v":1}]
[null,null,null,null,null," ",null,null,null,null,null,null,null,null,null,null,null,null,null,null,null,"KI5KVU","RELAY",null,null,null,17,{"$f":"COUNTIFS(CGCH!$B$5:$B$501,\"*,KY\",CGCH!$H$5:$H$501,\">0\")","v":1},"KENTUCKY",{"$f":"COUNTIFS(CGCH!$B$5:$B$501,\"*,KN\")","v":0},"KY",{"$f":"COUNTIFS(CGCH!$B$5:$B$602,AC20)","v":1}]
["DURATION:",120,"Time in Minutes",null,null,"00:30:00",null,null,null,null,null,null,null,null,null,null,null,null,null,null,null,"W5MOE","OUT THRU 07/31",null,null,null,18,{"$f":"COUNTIFS(CGCH!$B$5:$B$501,\"*,LA\",CGCH!$H$5:$H$501,\">0\")","v":2},"LOUISIANA",{"$f":"COUNTIFS(CGCH!$B$5:$B$501,\"*,LA\")","v":48},"LA",{"$f":"COUNTIFS(CGCH!$B$5:$B$602,AC21)","v":1}]
[null,"Audio:","Band:",null,"MINUTES . DURATION:"," ",null,null,null,null,null,null,null,null,null,null,null,null,null,null,null,"KN4MAA","OUT THRU 07/31",null,null,null,19,{"$f":"COUNTIFS(CGCH!$B$5:$B$501,\"*,ME\",CGCH!$H$5:$H$501,\">0\")","v":0},"MAINE",{"$f":"COUNTIFS(CGCH!$B$5:$B$501,\"*,ME\")","v":0},"ME",{"$f":"COUNTIFS(CGCH!$B$5:$B$602,AC22)","v":0}]
["Select CONDITIONS:","FAIR","STABLE",null,null,null,null,null,null,null,null,null,null,null,null,null,null,null,null,null,null,null,null,null,null,null,20,{"$f":"COUNTIFS(CGCH!$B$5:$B$501,\"*,MD\",CGCH!$H$5:$H$501,\">0\")","v":0},"MARYLAND",{"$f":"COUNTIFS(CGCH!$B$5:$B$501,\"*,MD\")","v":0},"MD",{"$f":"COUNTIFS(CGCH!$B$5:$B$602,AC23)","v":0}]
[null,null,null,null,null,null,null,null,null,null,null,null,null,null,null,null,null,null,null,null,null,null,null,null,null,null,21,{"$f":"COUNTIFS(CGCH!$B$5:$B$501,\"*,MA\",CGCH!$H$5:$H$501,\">0\")","v":0},"MASSACHUSETTS",{"$f":"COUNTIFS(CGCH!$B$5:$B$501,\"*,MA\")","v":0},"MA",{"$f":"COUNTIFS(CGCH!$B$5:$B$602,AC24)","v":0}]
["NCS NAME:","DAVID"," ",null,null,null,null,null,null,null,null,null,null,null,null,null,null,null,null,null,null,null,null,null,null,null,22,{"$f":"COUNTIFS(CGCH!$B$5:$B$501,\"*,MI\",CGCH!$H$5:$H$501,\">0\")","v":2},"MICHIGAN",{"$f":"COUNTIFS(CGCH!$B$5:$B$501,\"*,MI\")","v":13},"MI",{"$f":"COUNTIFS(CGCH!$B$5:$B$602,AC25)","v":1}]
[null,null,null,null,null,null,null,null,null,null,null,null,null,null,null,null,null,null,null,null,null,null,null,null,null,null,23,{"$f":"COUNTIFS(CGCH!$B$5:$B$501,\"*,MN\",CGCH!$H$5:$H$501,\">0\")","v":0},"MINNESOTA",{"$f":"COUNTIFS(CGCH!$B$5:$B$501,\"*,MN\")","v":2},"MN",{"$f":"COUNTIFS(CGCH!$B$5:$B$602,AC26)","v":1}]
["NCS CALL:","KA5TON"," ",null,null,null,null,null,null,null,null,null,null,null,null,null,null,null,null,null,null,null,null,null,null,null,24,{"$f":"COUNTIFS(CGCH!$B$5:$B$501,\"*,MS\",CGCH!$H$5:$H$501,\">0\")","v":0},"MISSISSIPPI",{"$f":"COUNTIFS(CGCH!$B$5:$B$501,\"*,MS\")","v":15},"MS",{"$f":"COUNTIFS(CGCH!$B$5:$B$602,AC27)","v":1}]
[null,null,null,null,null,null,null,null,null,null,null,null,null,null,null,null,null,null,null,null,null,null,null,null,null,null,25,{"$f":"COUNTIFS(CGCH!$B$5:$B$501,\"*,MO\",CGCH!$H$5:$H$501,\">0\")","v":0},"MISSOURI",{"$f":"COUNTIFS(CGCH!$B$5:$B$501,\"*,MO\")","v":7},"MO",{"$f":"COUNTIFS(CGCH!$B$5:$B$602,AC28)","v":1}]
["Comments:",null,null,null,null,null,null,null,null,null,null,null,null,null,null,null,null,null,null,null,null,null,null,null,null,null,26,{"$f":"COUNTIFS(CGCH!$B$5:$B$501,\"*,MT\",CGCH!$H$5:$H$501,\">0\")","v":0},"MONTANA",{"$f":"COUNTIFS(CGCH!$B$5:$B$501,\"*,MT\")","v":0},"MT",{"$f":"COUNTIFS(CGCH!$B$5:$B$602,AC29)","v":0}]
["Relays:",null,null,null,null,null,null,null,null,null,null,null,null,null,null,null,null,null,null,null,null,null,null,null,null,null,27,{"$f":"COUNTIFS(CGCH!$B$5:$B$501,\"*,NE\",CGCH!$H$5:$H$501,\">0\")","v":0},"NEBRASKA",{"$f":"COUNTIFS(CGCH!$B$5:$B$501,\"*,NE\")","v":1},"NE",{"$f":"COUNTIFS(CGCH!$B$5:$B$602,AC30)","v":1}]
["END OF MESSAGE",null,null,null,null,null,null,null,null,null,null,null,null,null,null,null,null,null,null,null,null,null,null,null,null,null,28,{"$f":"COUNTIFS(CGCH!$B$5:$B$501,\"*,NV\",CGCH!$H$5:$H$501,\">0\")","v":0},"NEVADA",{"$f":"COUNTIFS(CGCH!$B$5:$B$501,\"*,NV\")","v":0},"NV",{"$f":"COUNTIFS(CGCH!$B$5:$B$602,AC31)","v":0}]
[null,null,null,null,null,null,null,null,null,null,null,null,null,null,null,null,null,null,"R",null,null,null,null,null,null,null,29,{"$f":"COUNTIFS(CGCH!$B$5:$B$501,\"*,NH\",CGCH!$H$5:$H$501,\">0\")","v":0},"NEW HAMPSHIRE",{"$f":"COUNTIFS(CGCH!$B$5:$B$501,\"*,NH\")","v":0},"NH",{"$f":"COUNTIFS(CGCH!$B$5:$B$602,AC32)","v":0}]
[null,null,null,null,null,null,null,null,null,null,null,null,null,null,"CALL","NAME",null,"Active","Cur't","Ark:",null,null,null,null,null,null,30,{"$f":"COUNTIFS(CGCH!$B$5:$B$501,\"*,NJ\",CGCH!$H$5:$H$501,\">0\")","v":0},"NEW JERSEY",{"$f":"COUNTIFS(CGCH!$B$5:$B$501,\"*,NJ\")","v":0},"NJ",{"$f":"COUNTIFS(CGCH!$B$5:$B$602,AC33)","v":0}]
[null,null,null,null,null,null,null,null,null,null,null,null,null,null,"OPEN","OPEN","Sunday","OPEN",null,null,null,null,null,null,null,null,31,{"$f":"COUNTIFS(CGCH!$B$5:$B$501,\"*,NM\",CGCH!$H$5:$H$501,\">0\")","v":2},"NEW MEXICO",{"$f":"COUNTIFS(CGCH!$B$5:$B$501,\"*,NM\")","v":2},"NM",{"$f":"COUNTIFS(CGCH!$B$5:$B$602,AC34)","v":1}]
[null,null,null,null,null,null,null,null,null,null,null,null,null,null,"WD4SS","JOHN","Monday",null,null,null,null,null,null,null,null,null,32,{"$f":"COUNTIFS(CGCH!$B$5:$B$501,\"*,NY\",CGCH!$H$5:$H$501,\">0\")","v":0},"NEW YORK",{"$f":"COUNTIFS(CGCH!$B$5:$B$501,\"*,NY\")","v":0},"NY",{"$f":"COUNTIFS(CGCH!$B$5:$B$602,AC35)","v":0}]
["FORMER NET MANAGERS",null,null,null,null,null,null,null,null,null,null,null,null,null,"K5KER","RANDY","Tuesday",null,null,null,null,null,null,null,null,null,33,{"$f":"COUNTIFS(CGCH!$B$5:$B$501,\"*,NC\",CGCH!$H$5:$H$501,\">0\")","v":0},"N. CAROLINA",{"$f":"COUNTIFS(CGCH!$B$5:$B$501,\"*,NC\")","v":4},"NC",{"$f":"COUNTIFS(CGCH!$B$5:$B$602,AC36)","v":1}]
["CALL SIGN","NAME","DATES",null,null,null,null,null,null,null,null,null,null,null,"KE5VLX","CHUCK","Wednesday","NetScribe",null,null,null,null,null,null,null,null,{"$f":"AA36+1","v":34},{"$f":"COUNTIFS(CGCH!$B$5:$B$501,\"*,ND\",CGCH!$H$5:$H$501,\">0\")","v":0},"N. DAKOTA",{"$f":"COUNTIFS(CGCH!$B$5:$B$501,\"*,ND\")","v":0},"ND",{"$f":"COUNTIFS(CGCH!$B$5:$B$602,AC37)","v":0}]
["W4BIK","DANIEL PAGE",null,null,null,null,null,null,null,null,null,null,null,null,"KJ4SBC","RAY","Thursday","NetMgr",null,null,null,null,null,null,null,null,35,{"$f":"COUNTIFS(CGCH!$B$5:$B$501,\"*,OH\",CGCH!$H$5:$H$501,\">0\")","v":0},"OHIO",{"$f":"COUNTIFS(CGCH!$B$5:$B$501,\"*,OH\")","v":3},"OH",{"$f":"COUNTIFS(CGCH!$B$5:$B$602,AC38)","v":1}]
["W5JX","DON JONES","2003-2005",null,null,null,null,null,null,null,null,null,null,null,"KA5TON","DAVID","Friday",null,null,null,null,null,null,null,null,null,36,{"$f":"COUNTIFS(CGCH!$B$5:$B$501,\"*,OK\",CGCH!$H$5:$H$501,\">0\")","v":0},"OKLAHOMA",{"$f":"COUNTIFS(CGCH!$B$5:$B$501,\"*,OK\")","v":5},"OK",{"$f":"COUNTIFS(CGCH!$B$5:$B$602,AC39)","v":1}]
["KG5YK","ROBERT TURNER","2005-",null,null,null,null,null,null,null,null,null,null,null,"KJ5CEU","MARK","Saturday",null,null,null,null,null,null,null,"`",null,37,{"$f":"COUNTIFS(CGCH!$B$5:$B$501,\"*,OR\",CGCH!$H$5:$H$501,\">0\")","v":0},"OREGON",{"$f":"COUNTIFS(CGCH!$B$5:$B$501,\"*,OR\")","v":0},"OR",{"$f":"COUNTIFS(CGCH!$B$5:$B$602,AC40)","v":0}]
["N5CEP","CHARLES PITTS",null,null,null,null,null,null,null,null,null,null,null,null,null,null,null,null,null,null,null,null,null,null,null,null,38,{"$f":"COUNTIFS(CGCH!$B$5:$B$501,\"*,PA\",CGCH!$H$5:$H$501,\">0\")","v":0},"PENNSYLVANIA",{"$f":"COUNTIFS(CGCH!$B$5:$B$501,\"*,PA\")","v":1},"PA",{"$f":"COUNTIFS(CGCH!$B$5:$B$602,AC41)","v":1}]
["WD5CFM","FRANCIS BOUDREAUX",null,null,null,null,null,null,null,null,null,null,null,null,null,null,null,null,null,null,null,null,null,null,null,null,39,{"$f":"COUNTIFS(CGCH!$B$5:$B$501,\"*,RI\",CGCH!$H$5:$H$501,\">0\")","v":0},"RHODE ISLAND",{"$f":"COUNTIFS(CGCH!$B$5:$B$501,\"*,RI\")","v":0},"RI",{"$f":"COUNTIFS(CGCH!$B$5:$B$602,AC42)","v":0}]
["N0CEL","MARK",null,null,null,null,null,null,null,null,null,null,null,null,"KC5EGZ","JIMMY","ALTERNATE NCS",null,null,null,null,null,null,null,null,null,40,{"$f":"COUNTIFS(CGCH!$B$5:$B$501,\"*,SC\",CGCH!$H$5:$H$501,\">0\")","v":0},"S. CAROLINA",{"$f":"COUNTIFS(CGCH!$B$5:$B$501,\"*,SC\")","v":0},"SC",{"$f":"COUNTIFS(CGCH!$B$5:$B$602,AC43)","v":0}]
["W5ORA","BILL LISK",null,null,null,null,null,null,null,null,null,null,null,null,null,null,null,null,null,null,null,null,null,null,null,null,41,{"$f":"COUNTIFS(CGCH!$B$5:$B$501,\"*,SD\",CGCH!$H$5:$H$501,\">0\")","v":0},"S. DAKOTA",{"$f":"COUNTIFS(CGCH!$B$5:$B$501,\"*,SD\")","v":0},"SD",{"$f":"COUNTIFS(CGCH!$B$5:$B$602,AC44)","v":0}]
["KJ4SBC","RAY PHETTEPLACE,JR","OCT 21,2021 - ",null,null,null,null,null,null,null,null,null,null,null,"AG5AT","AUGUST",null,"WebMaster",null,null,null,null,null,null,null,null,42,{"$f":"COUNTIFS(CGCH!$B$5:$B$501,\"*,TN\",CGCH!$H$5:$H$501,\">0\")","v":1},"TENNESSEE",{"$f":"COUNTIFS(CGCH!$B$5:$B$501,\"*,TN\")","v":10},"TN",{"$f":"COUNTIFS(CGCH!$B$5:$B$602,AC45)","v":1}]
[null,null,null,null,null,null,null,null,null,null,null,null,null,null,"Rev.03/11/25",null,null,null,null,null,null,null,null,null,null,null,43,{"$f":"COUNTIFS(CGCH!$B$5:$B$602,\"*,TX\",CGCH!$H$5:$H$602,\">0\")","v":1},"TEXAS",{"$f":"COUNTIFS(CGCH!$B$5:$B$602,\"*,TX\")","v":48},"TX",{"$f":"COUNTIFS(CGCH!$B$5:$B$602,AC46)","v":1}]
[null,null,null,null,null,null,null,null,null,null,null,null,null,null,null,null,null,null,null,null,null,null,null,null,null,null,44,{"$f":"COUNTIFS(CGCH!$B$5:$B$602,\"*,UT\",CGCH!$H$5:$H$602,\">0\")","v":0},"UTAH",{"$f":"COUNTIFS(CGCH!$B$5:$B$602,\"*,UT\")","v":0},"UT",{"$f":"COUNTIFS(CGCH!$B$5:$B$602,AC47)","v":0}]
[null,null,null,null,null,null,null,null,null,null,null,null,null,null,null,null,null,null,null,null,null,null,null,null,null,null,45,{"$f":"COUNTIFS(CGCH!$B$5:$B$602,\"*,VT\",CGCH!$H$5:$H$602,\">0\")","v":0},"VERMONT",{"$f":"COUNTIFS(CGCH!$B$5:$B$602,\"*,VT\")","v":0},"VT",{"$f":"COUNTIFS(CGCH!$B$5:$B$602,AC48)","v":0}]
[null,null,null,null,null,null,null,null,null,null,null,null,null,null,null,null,null,null,null,null,null,null,null,null,null,null,46,{"$f":"COUNTIFS(CGCH!$B$5:$B$602,\"*,VA\",CGCH!$H$5:$H$602,\">0\")","v":0},"VIRGINIA",{"$f":"COUNTIFS(CGCH!$B$5:$B$602,\"*,VA\")","v":0},"VA",{"$f":"COUNTIFS(CGCH!$B$5:$B$602,AC49)","v":0}]
[null,null,null,null,null,null,null,null,null,null,null,null,null,null,null,null,null,null,null,null,null,null,null,null,null,null,47,{"$f":"COUNTIFS(CGCH!$B$5:$B$602,\"*,WA\",CGCH!$H$5:$H$602,\">0\")","v":0},"WASHINGTON",{"$f":"COUNTIFS(CGCH!$B$5:$B$602,\"*,WA\")","v":0},"WA",{"$f":"COUNTIFS(CGCH!$B$5:$B$602,AC50)","v":0}]
[null,null,null,null,null,null,null,null,null,null,null,null,null,null,null,null,null,null,null,null,null,null,null,null,null,null,48,{"$f":"COUNTIFS(CGCH!$B$5:$B$602,\"*,WI\",CGCH!$H$5:$H$602,\">0\")","v":0},"WISCONSIN",{"$f":"COUNTIFS(CGCH!$B$5:$B$602,\"*,WI\")","v":2},"WI",{"$f":"COUNTIFS(CGCH!$B$5:$B$602,AC51)","v":1}]
[null,null,null,null,null,null,null,null,null,null,null,null,null,null,null,null,null,null,null,null,null,null,null,null,null,null,49,{"$f":"COUNTIFS(CGCH!$B$5:$B$602,\"*,WY\",CGCH!$H$5:$H$602,\">0\")","v":0},"WYOMING",{"$f":"COUNTIFS(CGCH!$B$5:$B$602,\"*,WY\")","v":0},"WY",{"$f":"COUNTIFS(CGCH!$B$5:$B$602,AC52)","v":0}]
[null,null,null,null,null,null,null,null,null,null,null,null,null,null,null,null,null,null,null,null,null,null,null,null,null,null,50,{"$f":"COUNTIFS(CGCH!$B$5:$B$602,\"*,WV\",CGCH!$H$5:$H$602,\">0\")","v":0},"WEST VIRGINIA",{"$f":"COUNTIFS(CGCH!$B$5:$B$602,\"*,WV\")","v":0},"WV",{"$f":"COUNTIFS(CGCH!$B$5:$B$602,AC53)","v":0}]
[null,null,null,null,null,null,null,null,null,null,null,null,null,null,null,null,null,null,null,null,null,null,null,null,null,null,51,{"$f":"COUNTIFS(CGCH!$B$5:$B$602,\"*,CTY\",CGCH!$H$5:$H$602,\">0\")","v":0},"COUNTRY'S",{"$f":"COUNTIFS(CGCH!$B$5:$B$602,\"*,CTY\")","v":0},"CTY",{"$f":"COUNTIFS(CGCH!$B$5:$B$602,AC54)","v":1}]
[null,null,null,null,null,null,null,null,null,null,null,null,null,null,null,null,null,null,null,null,null,null,null,null,null,null,null,null,"END OF DATA  - ESD",null,null,86]
[null,null,null,null,null,null,null,null,null,null,null,null,null,null,null,null,null,null,null,null,null,null,null,null,null,null,"Total ChkIns",{"$f":"SUM(AB4:AB54)","v":20},"Number of Hams        on List",{"$f":"SUM(AD4:AD54)","v":294},"Number of States",{"$f":"COUNTIFS(AF4:AF54,1)","v":26}]